BEGIN:VCALENDAR
VERSION:2.0
PRODID:-//Oklahoma City Indian Clinic - ECPv6.13.1//NONSGML v1.0//EN
CALSCALE:GREGORIAN
METHOD:PUBLISH
X-WR-CALNAME:Oklahoma City Indian Clinic
X-ORIGINAL-URL:https://okcic.com
X-WR-CALDESC:Events for Oklahoma City Indian Clinic
REFRESH-INTERVAL;VALUE=DURATION:PT1H
X-Robots-Tag:noindex
X-PUBLISHED-TTL:PT1H
BEGIN:VTIMEZONE
TZID:America/Chicago
BEGIN:DAYLIGHT
TZOFFSETFROM:-0600
TZOFFSETTO:-0500
TZNAME:CDT
DTSTART:20250309T080000
END:DAYLIGHT
BEGIN:STANDARD
TZOFFSETFROM:-0500
TZOFFSETTO:-0600
TZNAME:CST
DTSTART:20251102T070000
END:STANDARD
END:VTIMEZONE
BEGIN:VEVENT
DTSTART;TZID=America/Chicago:20250326T080000
DTEND;TZID=America/Chicago:20250326T163000
DTSTAMP:20260422T083149
CREATED:20250110T182155Z
LAST-MODIFIED:20250303T183055Z
UID:10005089-1742976000-1743006600@okcic.com
SUMMARY:Mental Health Awareness Training
DESCRIPTION:Date: Wednesday\, March 26\, 2025 \nTime: 8:00 a.m. – 4:30 p.m. \nWhere: Oklahoma City Indian Clinic 1st Floor Conference Room\, 309 S. Ann Arbor Ave. Oklahoma City\, OK 73128 \nAbout: Confidently recognize and respond to Indigenous adolescents (ages 12-18) who may be experiencing a mental health or substance use challenge or crisis. Open to the community. \nThis course will teach you how to apply the Mental Health First Aid Action Plan (ALGEE): \n• Assess for risk of suicide or harm\n• Listen nonjudgmentally\n• Give reassurance and information\n• Encourage appropriate professional help\n• Encourage self-help and other support strategies \nIn-person only\, online pre-work must be completed in order to attend. \nAttendees will have a chance to win exciting raffle prizes! \nOnline application
URL:https://okcic.com/event/mental-health-awareness-training/
LOCATION:Oklahoma City Indian Clinic 309 location\, 309 S. Ann Arbor\, Oklahoma City\, OK\, 73128\, United States
GEO:35.4629916;-97.6104898
X-APPLE-STRUCTURED-LOCATION;VALUE=URI;X-ADDRESS=Oklahoma City Indian Clinic 309 location 309 S. Ann Arbor Oklahoma City OK 73128 United States;X-APPLE-RADIUS=500;X-TITLE=309 S. Ann Arbor:geo:-97.6104898,35.4629916
END:VEVENT
BEGIN:VEVENT
DTSTART;TZID=America/Chicago:20250326T120000
DTEND;TZID=America/Chicago:20250326T130000
DTSTAMP:20260422T083149
CREATED:20240117T193751Z
LAST-MODIFIED:20241226T153623Z
UID:10004414-1742990400-1742994000@okcic.com
SUMMARY:Empower Hour: Teen LGBTQ+ Support Group
DESCRIPTION:When: Wednesdays at 12:00 p.m. \nWhere: ONLINE ONLY via OKCIC’s Telemedicine MEND Service \nAbout: This group is for OKCIC patients ages 13-18 who are in the LGBTQ+ community. This group is a safe space for teens to express themselves without judgement. They will receive encouragement\, support and learn the power of resilience. Contact Amy Merrell at amy.m@okcic.com for further questions. \nOnline application \nIf the link above is not working\, please copy and paste this URL:\nhttps://forms.gle/oQHZVo371AKqp7Ey5
URL:https://okcic.com/event/empower-hour-teen-lgbtq-support-group-2/2025-03-26/
LOCATION:Virtual Visit
CATEGORIES:Behavioral Health,LGBTQ Support
ATTACH;FMTTYPE=image/jpeg:https://okcic.com/wp-content/uploads/2024/07/all-are-welcome_700px.jpg
END:VEVENT
END:VCALENDAR