BEGIN:VCALENDAR
VERSION:2.0
PRODID:-//Oklahoma City Indian Clinic - ECPv6.13.1//NONSGML v1.0//EN
CALSCALE:GREGORIAN
METHOD:PUBLISH
X-ORIGINAL-URL:https://okcic.com
X-WR-CALDESC:Events for Oklahoma City Indian Clinic
REFRESH-INTERVAL;VALUE=DURATION:PT1H
X-Robots-Tag:noindex
X-PUBLISHED-TTL:PT1H
BEGIN:VTIMEZONE
TZID:America/Chicago
BEGIN:DAYLIGHT
TZOFFSETFROM:-0600
TZOFFSETTO:-0500
TZNAME:CDT
DTSTART:20250309T080000
END:DAYLIGHT
BEGIN:STANDARD
TZOFFSETFROM:-0500
TZOFFSETTO:-0600
TZNAME:CST
DTSTART:20251102T070000
END:STANDARD
END:VTIMEZONE
BEGIN:VEVENT
DTSTART;TZID=America/Chicago:20251002T110000
DTEND;TZID=America/Chicago:20251002T130000
DTSTAMP:20260424T151711
CREATED:20250616T182836Z
LAST-MODIFIED:20251223T145445Z
UID:10005996-1759402800-1759410000@okcic.com
SUMMARY:Grief & Loss Support Group
DESCRIPTION:When: Thursdays at 11:00 a.m. & 12:00 p.m. \nWhere: Virtual Visit \nAbout: You are not alone. When we are faced with the loss of a loved one our whole world stops and everything around us keeps moving. In this group you will find support from others going through something similar by sharing your experiences. To sign up or for more information\, please click the link below or contact (405) 948-4900 ext. 610. \nOnline application \nIf the link above is not working\, please copy and paste this URL:\nhttps://forms.gle/DsyWQVBtL23nQe1v6
URL:https://okcic.com/event/grief-group-3-2/2025-10-02/
LOCATION:Virtual Visit
CATEGORIES:Behavioral Health,Grief Group
END:VEVENT
BEGIN:VEVENT
DTSTART;TZID=America/Chicago:20251002T120000
DTEND;TZID=America/Chicago:20251002T130000
DTSTAMP:20260424T151711
CREATED:20241227T195242Z
LAST-MODIFIED:20250916T195343Z
UID:10005055-1759406400-1759410000@okcic.com
SUMMARY:Positive Parenting Strategies
DESCRIPTION:When: Tuesdays & Thursdays \nTime: 12:00 p.m. \nWhere: Virtually\, links will be sent out via email \nAbout: Together we can learn about behavioral management strategies for children and adolescents ages 4-16. This group focuses on behavioral principles\, prevention strategies\, establishing daily schedules\, using reinforcers\, and functional communication. \nParticipants are expected to be engaged and weekly homework will be distributed. Both guardians are encouraged to attend\, one being an active patient at Oklahoma City Indian Clinic. Children’s attendance is optional. \nOnline application
URL:https://okcic.com/event/positive-parenting-strategies-2/2025-10-02/
LOCATION:Virtual Visit
CATEGORIES:Behavioral Health
END:VEVENT
BEGIN:VEVENT
DTSTART;TZID=America/Chicago:20251002T120000
DTEND;TZID=America/Chicago:20251002T130000
DTSTAMP:20260424T151711
CREATED:20250910T212608Z
LAST-MODIFIED:20251223T145525Z
UID:10006422-1759406400-1759410000@okcic.com
SUMMARY:Medicine Wheel Group
DESCRIPTION:When: Thursdays at 12:00 p.m. \nWhere: Virtual Visit \nAbout: Patients will learn about the gifts of the north\, west\, south and east; traditional medicines; and the four elements. Along the way\, you will learn how to use these teachings to bring balance to your life and attain a happy\, healthy life. To sign up or for more information\, please click the link below or contact (405) 948-4900 ext. 610. \nOnline application \nIf the link above is not working\, please copy and paste this URL:\nhttps://forms.gle/aQzAbSH8kbPZ3yRTA
URL:https://okcic.com/event/medicine-wheel-group-2/2025-10-02/
LOCATION:Virtual Visit
CATEGORIES:Behavioral Health,Medicine Wheel Group
END:VEVENT
BEGIN:VEVENT
DTSTART;TZID=America/Chicago:20251002T130000
DTEND;TZID=America/Chicago:20251002T140000
DTSTAMP:20260424T151711
CREATED:20250723T161023Z
LAST-MODIFIED:20250909T175305Z
UID:10006283-1759410000-1759413600@okcic.com
SUMMARY:Healthy Heart Class
DESCRIPTION:Date: Thursday\, September 18 – October 9\, 2025 \nTime: 1:00 – 2:00 p.m. \nWhere: Oklahoma City Indian Clinic\, 5208 W. Reno Ave.\, Oklahoma City\, OK 73127 \nAbout: Ongoing one month incentive-based program for current patients 18 years of age and older with elevated cholesterol or blood pressure. Current nutrition referral required. \n\n\n\nApplication due by September 16\, 2025\n\n\n\nOnline application \nIf the link above is not working\, please copy and paste this URL:\nhttps://forms.gle/dsrLM6f5Xnv7EpHC7
URL:https://okcic.com/event/healthy-heart-class-4/2025-10-02/
LOCATION:Oklahoma City Indian Clinic: Everett R. Rhoades Medical Building\, 5208 W. Reno Ave.\, Oklahoma City\, OK\, 73127\, United States
CATEGORIES:Adult programs,HPDP
GEO:35.463747;-97.610608
X-APPLE-STRUCTURED-LOCATION;VALUE=URI;X-ADDRESS=Oklahoma City Indian Clinic: Everett R. Rhoades Medical Building 5208 W. Reno Ave. Oklahoma City OK 73127 United States;X-APPLE-RADIUS=500;X-TITLE=5208 W. Reno Ave.:geo:-97.610608,35.463747
END:VEVENT
BEGIN:VEVENT
DTSTART;TZID=America/Chicago:20251002T163000
DTEND;TZID=America/Chicago:20251002T173000
DTSTAMP:20260424T151711
CREATED:20250723T142720Z
LAST-MODIFIED:20250723T142720Z
UID:10006234-1759422600-1759426200@okcic.com
SUMMARY:After-School Golf
DESCRIPTION:Date: Thursdays\, September 11 – October 9\, 2025 \nTime: 4:30 – 5:30 p.m. \nWhere: First Tee Oklahoma City; 600 N Martin Luther King Avenue\, Oklahoma City\, OK 73117 \nAbout: After-School Golf is for current OKCIC patients ages 7 – 17. Current nutrition referral required. \nApplication due by September 4\, 2025 \nOnline application \nIf the link above is not working\, please copy and paste this URL: \nhttps://forms.gle/nNuXKMpkPEqfdf9G8
URL:https://okcic.com/event/after-school-golf-4/2025-10-02/
LOCATION:The First Tee Metropolitan Oklahoma City\, 600 N Martin Luther King Avenue\, Oklahoma City\, OK\, 73117\, United States
CATEGORIES:HPDP,Youth programs
GEO:35.4738491;-97.4761734
X-APPLE-STRUCTURED-LOCATION;VALUE=URI;X-ADDRESS=The First Tee Metropolitan Oklahoma City 600 N Martin Luther King Avenue Oklahoma City OK 73117 United States;X-APPLE-RADIUS=500;X-TITLE=600 N Martin Luther King Avenue:geo:-97.4761734,35.4738491
END:VEVENT
END:VCALENDAR