BEGIN:VCALENDAR
VERSION:2.0
PRODID:-//Oklahoma City Indian Clinic - ECPv6.13.1//NONSGML v1.0//EN
CALSCALE:GREGORIAN
METHOD:PUBLISH
X-WR-CALNAME:Oklahoma City Indian Clinic
X-ORIGINAL-URL:https://okcic.com
X-WR-CALDESC:Events for Oklahoma City Indian Clinic
REFRESH-INTERVAL;VALUE=DURATION:PT1H
X-Robots-Tag:noindex
X-PUBLISHED-TTL:PT1H
BEGIN:VTIMEZONE
TZID:America/Chicago
BEGIN:DAYLIGHT
TZOFFSETFROM:-0600
TZOFFSETTO:-0500
TZNAME:CDT
DTSTART:20250309T080000
END:DAYLIGHT
BEGIN:STANDARD
TZOFFSETFROM:-0500
TZOFFSETTO:-0600
TZNAME:CST
DTSTART:20251102T070000
END:STANDARD
END:VTIMEZONE
BEGIN:VEVENT
DTSTART;TZID=America/Chicago:20251110T160000
DTEND;TZID=America/Chicago:20251110T180000
DTSTAMP:20260422T235123
CREATED:20250916T194022Z
LAST-MODIFIED:20250916T195126Z
UID:10006491-1762790400-1762797600@okcic.com
SUMMARY:Build & Bring - A Cultural Creation Circle
DESCRIPTION:When: Mondays\, September 8-November 24 \nTime: 4:00 to 6:00 p.m. \nWhere: Oklahoma City Indian Clinic; 3rd Floor Boardroom\, 5208 W. Reno Ave.\, Oklahoma City\, OK 73128 \nAbout: Where culture meets community. This group is a welcoming space for patients to gather\, create\, and share. Bring in any current projects\, beadwork\, sewing\, regalia-making\, drawing\, or other creative projects to work alongside others in a supportive environment. Whether you’re seeking inspiration\, helpful tips\, or simply the joy of creating in good company\, artists of all experience levels are welcome. \nOnline application \nIf the link above is not working\, please copy and paste this URL:\nhttps://forms.gle/iACgs7cT1tqqaaYf9
URL:https://okcic.com/event/build-bring-a-cultural-creation-circle-2/2025-11-10/
LOCATION:Oklahoma City Indian Clinic: Everett R. Rhoades Medical Building\, 5208 W. Reno Ave.\, Oklahoma City\, OK\, 73127\, United States
CATEGORIES:Adult programs,Family programs
GEO:35.463747;-97.610608
X-APPLE-STRUCTURED-LOCATION;VALUE=URI;X-ADDRESS=Oklahoma City Indian Clinic: Everett R. Rhoades Medical Building 5208 W. Reno Ave. Oklahoma City OK 73127 United States;X-APPLE-RADIUS=500;X-TITLE=5208 W. Reno Ave.:geo:-97.610608,35.463747
END:VEVENT
BEGIN:VEVENT
DTSTART;TZID=America/Chicago:20251110T163000
DTEND;TZID=America/Chicago:20251110T173000
DTSTAMP:20260422T235123
CREATED:20250722T193917Z
LAST-MODIFIED:20250722T193917Z
UID:10006130-1762792200-1762795800@okcic.com
SUMMARY:After-School Active Gamers
DESCRIPTION:Date: Mondays\, October 20 – December 1\, 2025 \nTime: 4:30 – 5:30 p.m. \nWhere: Oklahoma City Indian Clinic; 5208 W. Reno Ave.\, 2nd Floor Kid’s Fun & Fit Room\, Oklahoma City\, OK 73127 \nAbout: Active Gamers is an after-school activity for those who love to play video games while getting up and moving more! After-School Active Gamers is for current OKCIC patients ages 6-17. Current nutrition referral required. \nApplications due by October 13\, 2025 \nOnline application \nIf the link above is not working\, please copy and paste this URL: \nhttps://forms.gle/2gJkoJn8u1UMB7fN7
URL:https://okcic.com/event/after-school-active-gamers-3/2025-11-10/
LOCATION:Oklahoma City Indian Clinic: Everett R. Rhoades Medical Building\, 5208 W. Reno Ave.\, Oklahoma City\, OK\, 73127\, United States
CATEGORIES:HPDP,Youth programs
GEO:35.463747;-97.610608
X-APPLE-STRUCTURED-LOCATION;VALUE=URI;X-ADDRESS=Oklahoma City Indian Clinic: Everett R. Rhoades Medical Building 5208 W. Reno Ave. Oklahoma City OK 73127 United States;X-APPLE-RADIUS=500;X-TITLE=5208 W. Reno Ave.:geo:-97.610608,35.463747
END:VEVENT
END:VCALENDAR