BEGIN:VCALENDAR
VERSION:2.0
PRODID:-//Oklahoma City Indian Clinic - ECPv6.13.1//NONSGML v1.0//EN
CALSCALE:GREGORIAN
METHOD:PUBLISH
X-WR-CALNAME:Oklahoma City Indian Clinic
X-ORIGINAL-URL:https://okcic.com
X-WR-CALDESC:Events for Oklahoma City Indian Clinic
REFRESH-INTERVAL;VALUE=DURATION:PT1H
X-Robots-Tag:noindex
X-PUBLISHED-TTL:PT1H
BEGIN:VTIMEZONE
TZID:America/Chicago
BEGIN:DAYLIGHT
TZOFFSETFROM:-0600
TZOFFSETTO:-0500
TZNAME:CDT
DTSTART:20260308T080000
END:DAYLIGHT
BEGIN:STANDARD
TZOFFSETFROM:-0500
TZOFFSETTO:-0600
TZNAME:CST
DTSTART:20261101T070000
END:STANDARD
END:VTIMEZONE
BEGIN:VEVENT
DTSTART;TZID=America/Chicago:20260123T120000
DTEND;TZID=America/Chicago:20260123T130000
DTSTAMP:20260421T045407
CREATED:20250805T193201Z
LAST-MODIFIED:20251222T163729Z
UID:10006955-1769169600-1769173200@okcic.com
SUMMARY:Managing Your Adult ADHD
DESCRIPTION:When: Fridays at noon \nWhere: Virtually via email link \nAbout: This is a group class for Oklahoma City Indian Clinic patients ages 18+ with ADHD. This group covers information about Adult ADHD\, overview of treatment\, organizing & planning\, reducing distractibility\, adaptive thinking\, and other additional skills. \nOnline Registration
URL:https://okcic.com/event/managing-your-adult-adhd/2026-01-23/
LOCATION:Oklahoma City Indian Clinic\, 4913 W Reno Ave\, Oklahoma City\, OK\, 73127\, United States
CATEGORIES:Adult programs,Behavioral Health
GEO:35.4650457;-97.6076095
X-APPLE-STRUCTURED-LOCATION;VALUE=URI;X-ADDRESS=Oklahoma City Indian Clinic 4913 W Reno Ave Oklahoma City OK 73127 United States;X-APPLE-RADIUS=500;X-TITLE=4913 W Reno Ave:geo:-97.6076095,35.4650457
END:VEVENT
BEGIN:VEVENT
DTSTART;TZID=America/Chicago:20260123T120000
DTEND;TZID=America/Chicago:20260123T190000
DTSTAMP:20260421T045407
CREATED:20260123T160450Z
LAST-MODIFIED:20260123T181238Z
UID:10007448-1769169600-1769194800@okcic.com
SUMMARY:Closed due to inclement weather
DESCRIPTION:Due to inclement weather conditions\, Oklahoma City Indian Clinic will close the campus at 12:00 p.m. today\, Friday\, January 23\, 2026. \nPatients with appointments during this time will be contacted by their providers or care team to transition their appointments to virtual or to reschedule. All classes and events scheduled for Friday afternoon will be canceled. \nPlease take caution when driving.
URL:https://okcic.com/event/closed-due-to-inclement-weather/
LOCATION:Oklahoma City Indian Clinic\, 4913 W Reno Ave\, Oklahoma City\, OK\, 73127\, United States
ATTACH;FMTTYPE=image/jpeg:https://okcic.com/wp-content/uploads/2023/12/placeholder.jpg
GEO:35.4650457;-97.6076095
X-APPLE-STRUCTURED-LOCATION;VALUE=URI;X-ADDRESS=Oklahoma City Indian Clinic 4913 W Reno Ave Oklahoma City OK 73127 United States;X-APPLE-RADIUS=500;X-TITLE=4913 W Reno Ave:geo:-97.6076095,35.4650457
END:VEVENT
END:VCALENDAR