BEGIN:VCALENDAR
VERSION:2.0
PRODID:-//Oklahoma City Indian Clinic - ECPv6.13.1//NONSGML v1.0//EN
CALSCALE:GREGORIAN
METHOD:PUBLISH
X-WR-CALNAME:Oklahoma City Indian Clinic
X-ORIGINAL-URL:https://okcic.com
X-WR-CALDESC:Events for Oklahoma City Indian Clinic
REFRESH-INTERVAL;VALUE=DURATION:PT1H
X-Robots-Tag:noindex
X-PUBLISHED-TTL:PT1H
BEGIN:VTIMEZONE
TZID:America/Chicago
BEGIN:DAYLIGHT
TZOFFSETFROM:-0600
TZOFFSETTO:-0500
TZNAME:CDT
DTSTART:20260308T080000
END:DAYLIGHT
BEGIN:STANDARD
TZOFFSETFROM:-0500
TZOFFSETTO:-0600
TZNAME:CST
DTSTART:20261101T070000
END:STANDARD
END:VTIMEZONE
BEGIN:VEVENT
DTSTART;TZID=America/Chicago:20260126T160000
DTEND;TZID=America/Chicago:20260126T180000
DTSTAMP:20260421T094344
CREATED:20251211T175605Z
LAST-MODIFIED:20260204T150554Z
UID:10006558-1769443200-1769450400@okcic.com
SUMMARY:Build & Bring - A Cultural Creation Circle
DESCRIPTION:When: Mondays\,  January 26 – May 18\, 2026 (No Class on April 27\, 2026) \nTime: 4:00 to 6:00 p.m. \nWhere: You will receive the location in the acceptance letter after registration. \nAbout: Where culture meets community. This group is a welcoming space for patients to gather\, create\, and share. Bring in any current projects\, beadwork\, sewing\, regalia-making\, drawing\, or other creative projects to work alongside others in a supportive environment. Whether you’re seeking inspiration\, helpful tips\, or simply the joy of creating in good company\, artists of all experience levels are welcome. \nOnline application \nIf the link above is not working\, please copy and paste this URL:\nhttps://forms.gle/j6RmCwcYwiC5FeD68
URL:https://okcic.com/event/build-bring-a-cultural-creation-circle-3/2026-01-26/
LOCATION:Oklahoma City Indian Clinic: Everett R. Rhoades Medical Building\, 5208 W. Reno Ave.\, Oklahoma City\, OK\, 73127\, United States
CATEGORIES:Adult programs,Family programs
GEO:35.463747;-97.610608
X-APPLE-STRUCTURED-LOCATION;VALUE=URI;X-ADDRESS=Oklahoma City Indian Clinic: Everett R. Rhoades Medical Building 5208 W. Reno Ave. Oklahoma City OK 73127 United States;X-APPLE-RADIUS=500;X-TITLE=5208 W. Reno Ave.:geo:-97.610608,35.463747
END:VEVENT
BEGIN:VEVENT
DTSTART;TZID=America/Chicago:20260126T163000
DTEND;TZID=America/Chicago:20260126T173000
DTSTAMP:20260421T094344
CREATED:20251216T154604Z
LAST-MODIFIED:20260204T150624Z
UID:10006645-1769445000-1769448600@okcic.com
SUMMARY:After-School Active Gamers
DESCRIPTION:Date: Mondays\, January 26 – March 9\, 2026 \nTime: 4:30 – 5:30 p.m. \nWhere: You will receive the location in the acceptance letter after registration. \nAbout: Active Gamers is an after-school activity for those who love to play video games while getting up and moving more! After-School Active Gamers is for current OKCIC patients ages 8-17. Current nutrition referral required. \nApplications due by January 19\, 2026. \nOnline application \nIf the link above is not working\, please copy and paste this URL: \nhttps://forms.gle/CJSnFs7EQ2LkGN9d6
URL:https://okcic.com/event/after-school-active-gamers-4/2026-01-26/
LOCATION:Oklahoma City Indian Clinic: Everett R. Rhoades Medical Building\, 5208 W. Reno Ave.\, Oklahoma City\, OK\, 73127\, United States
CATEGORIES:HPDP,Youth programs
GEO:35.463747;-97.610608
X-APPLE-STRUCTURED-LOCATION;VALUE=URI;X-ADDRESS=Oklahoma City Indian Clinic: Everett R. Rhoades Medical Building 5208 W. Reno Ave. Oklahoma City OK 73127 United States;X-APPLE-RADIUS=500;X-TITLE=5208 W. Reno Ave.:geo:-97.610608,35.463747
END:VEVENT
END:VCALENDAR