BEGIN:VCALENDAR
VERSION:2.0
PRODID:-//Oklahoma City Indian Clinic - ECPv6.13.1//NONSGML v1.0//EN
CALSCALE:GREGORIAN
METHOD:PUBLISH
X-WR-CALNAME:Oklahoma City Indian Clinic
X-ORIGINAL-URL:https://okcic.com
X-WR-CALDESC:Events for Oklahoma City Indian Clinic
REFRESH-INTERVAL;VALUE=DURATION:PT1H
X-Robots-Tag:noindex
X-PUBLISHED-TTL:PT1H
BEGIN:VTIMEZONE
TZID:America/Chicago
BEGIN:DAYLIGHT
TZOFFSETFROM:-0600
TZOFFSETTO:-0500
TZNAME:CDT
DTSTART:20250309T080000
END:DAYLIGHT
BEGIN:STANDARD
TZOFFSETFROM:-0500
TZOFFSETTO:-0600
TZNAME:CST
DTSTART:20251102T070000
END:STANDARD
END:VTIMEZONE
BEGIN:VEVENT
DTSTART;TZID=America/Chicago:20251009T183000
DTEND;TZID=America/Chicago:20251009T193000
DTSTAMP:20260421T081547
CREATED:20250723T150736Z
LAST-MODIFIED:20250723T150736Z
UID:10006257-1760034600-1760038200@okcic.com
SUMMARY:Family Traditional Dance Night
DESCRIPTION:Date: Thursday\, October 9\, 2025 \nTime: 6:30 – 7:30 p.m. \nWhere: Harn Homestead\, 1721 N. Lincoln Blvd.\, Oklahoma City\, OK 73105 \nAbout: OKCIC families of all ages will participate in a fun traditional dance class. Current wellness check and nutrition referral required. \nApplication due by October 2\, 2025 \nOnline application \nIf the link above is not working\, please copy and paste this URL:\nhttps://forms.gle/xtgVyp6ZQeSWmxoL8
URL:https://okcic.com/event/family-traditional-dance-night-3/
LOCATION:Harn Homestead\, 1721 N Lincoln Blvd\, Oklahoma City\, OK\, 73105\, United States
CATEGORIES:Family programs,HPDP
GEO:35.4864788;-97.5063447
X-APPLE-STRUCTURED-LOCATION;VALUE=URI;X-ADDRESS=Harn Homestead 1721 N Lincoln Blvd Oklahoma City OK 73105 United States;X-APPLE-RADIUS=500;X-TITLE=1721 N Lincoln Blvd:geo:-97.5063447,35.4864788
END:VEVENT
END:VCALENDAR