BEGIN:VCALENDAR
VERSION:2.0
PRODID:-//Oklahoma City Indian Clinic - ECPv6.13.1//NONSGML v1.0//EN
CALSCALE:GREGORIAN
METHOD:PUBLISH
X-ORIGINAL-URL:https://okcic.com
X-WR-CALDESC:Events for Oklahoma City Indian Clinic
REFRESH-INTERVAL;VALUE=DURATION:PT1H
X-Robots-Tag:noindex
X-PUBLISHED-TTL:PT1H
BEGIN:VTIMEZONE
TZID:America/Chicago
BEGIN:DAYLIGHT
TZOFFSETFROM:-0600
TZOFFSETTO:-0500
TZNAME:CDT
DTSTART:20260308T080000
END:DAYLIGHT
BEGIN:STANDARD
TZOFFSETFROM:-0500
TZOFFSETTO:-0600
TZNAME:CST
DTSTART:20261101T070000
END:STANDARD
END:VTIMEZONE
BEGIN:VEVENT
DTSTART;TZID=America/Chicago:20260212T160000
DTEND;TZID=America/Chicago:20260212T183000
DTSTAMP:20260421T005007
CREATED:20251218T185816Z
LAST-MODIFIED:20251218T185816Z
UID:10006928-1770912000-1770921000@okcic.com
SUMMARY:Family Roots: Canvas Painting
DESCRIPTION:When: Thursday\, February 12\, 2026 \nTime: 4:00 – 6:30 p.m. \nWhere: You will receive the location in the acceptance letter after registration. \nAbout: Family Roots: Canvas Painting is a class for current OKCIC patients of all ages. Family Roots is a monthly\, multigenerational program featuring cultural activities for a variety ages\, like crafts\, traditional games\, and cooking. This program aims to strengthen cultural and social bonds. \nApplication due by February 5\, 2026. \nOnline application \nIf the link above is not working\, please copy and paste this URL:\nhttps://forms.gle/ngHomhcSAZUEC98A6
URL:https://okcic.com/event/family-roots-canvas-painting/
LOCATION:Oklahoma City Indian Clinic: Everett R. Rhoades Medical Building\, 5208 W. Reno Ave.\, Oklahoma City\, OK\, 73127\, United States
CATEGORIES:Family programs,HPDP
GEO:35.463747;-97.610608
X-APPLE-STRUCTURED-LOCATION;VALUE=URI;X-ADDRESS=Oklahoma City Indian Clinic: Everett R. Rhoades Medical Building 5208 W. Reno Ave. Oklahoma City OK 73127 United States;X-APPLE-RADIUS=500;X-TITLE=5208 W. Reno Ave.:geo:-97.610608,35.463747
END:VEVENT
END:VCALENDAR