BEGIN:VCALENDAR
VERSION:2.0
PRODID:-//Oklahoma City Indian Clinic - ECPv6.13.1//NONSGML v1.0//EN
CALSCALE:GREGORIAN
METHOD:PUBLISH
X-WR-CALNAME:Oklahoma City Indian Clinic
X-ORIGINAL-URL:https://okcic.com
X-WR-CALDESC:Events for Oklahoma City Indian Clinic
REFRESH-INTERVAL;VALUE=DURATION:PT1H
X-Robots-Tag:noindex
X-PUBLISHED-TTL:PT1H
BEGIN:VTIMEZONE
TZID:America/Chicago
BEGIN:DAYLIGHT
TZOFFSETFROM:-0600
TZOFFSETTO:-0500
TZNAME:CDT
DTSTART:20260308T080000
END:DAYLIGHT
BEGIN:STANDARD
TZOFFSETFROM:-0500
TZOFFSETTO:-0600
TZNAME:CST
DTSTART:20261101T070000
END:STANDARD
END:VTIMEZONE
BEGIN:VEVENT
DTSTART;TZID=America/Chicago:20260402T163000
DTEND;TZID=America/Chicago:20260402T173000
DTSTAMP:20260420T103236
CREATED:20251217T175434Z
LAST-MODIFIED:20251222T192205Z
UID:10006845-1775147400-1775151000@okcic.com
SUMMARY:Stickball
DESCRIPTION:Date: Thursdays\, March 26 – April 30\, 2026 \nTime: 4:30 – 5:30 p.m. \nWhere: You will receive the location in the acceptance letter after registration. \nAbout: Stickball is for current OKCIC patients ages 13+. Youth\, adults\, and parents are welcome to participate together or on their own while learning and playing this traditional Native game. Current nutrition referral required. \nApplications due by March 19\, 2026. \nOnline application \nIf the link above is not working\, please copy and paste this URL:\nhttps://forms.gle/B53DvhHwoLQ2UXCo8
URL:https://okcic.com/event/stickball/2026-04-02/
LOCATION:OK
CATEGORIES:Family programs,HPDP
END:VEVENT
END:VCALENDAR