BEGIN:VCALENDAR
VERSION:2.0
PRODID:-//Oklahoma City Indian Clinic - ECPv6.13.1//NONSGML v1.0//EN
CALSCALE:GREGORIAN
METHOD:PUBLISH
X-WR-CALNAME:Oklahoma City Indian Clinic
X-ORIGINAL-URL:https://okcic.com
X-WR-CALDESC:Events for Oklahoma City Indian Clinic
REFRESH-INTERVAL;VALUE=DURATION:PT1H
X-Robots-Tag:noindex
X-PUBLISHED-TTL:PT1H
BEGIN:VTIMEZONE
TZID:America/Chicago
BEGIN:DAYLIGHT
TZOFFSETFROM:-0600
TZOFFSETTO:-0500
TZNAME:CDT
DTSTART:20250309T080000
END:DAYLIGHT
BEGIN:STANDARD
TZOFFSETFROM:-0500
TZOFFSETTO:-0600
TZNAME:CST
DTSTART:20251102T070000
END:STANDARD
END:VTIMEZONE
BEGIN:VEVENT
DTSTART;TZID=America/Chicago:20251010T130000
DTEND;TZID=America/Chicago:20251010T160000
DTSTAMP:20260419T132248
CREATED:20250723T152623Z
LAST-MODIFIED:20250729T210953Z
UID:10006265-1760101200-1760112000@okcic.com
SUMMARY:Guided First Americans Museum Tour
DESCRIPTION:When: Friday\, October 10\, 2025 \nTime: 1:00 – 4:00 p.m. \nWhere: First Americans Museum; 659 First Americans Blvd\, Oklahoma City\, OK 73129 \nAbout: OKCIC Guided FAM Tour is for current OKCIC patients ages 18+. During the Guided First Americans Museum Tour\, patients will have the opportunity to explore the shared histories of Oklahoma’s 39 unique First American Nations. Participants will participate in an enriching experience of the cultural heritage represented in the museum. \nApplication due by October 3\, 2025\n \nOnline Application \nIf the link above is not working\, please copy and paste this URL:\nhttps://forms.gle/4vuYX3fCfinvVNhZ7
URL:https://okcic.com/event/guided-first-americans-museum-tour/
LOCATION:First Americans Museum\, 659 American Indian Blvd.\, Oklahoma City\, OK\, 73129\, United States
CATEGORIES:Adult programs,HPDP
END:VEVENT
END:VCALENDAR