BEGIN:VCALENDAR
VERSION:2.0
PRODID:-//Oklahoma City Indian Clinic - ECPv6.13.1//NONSGML v1.0//EN
CALSCALE:GREGORIAN
METHOD:PUBLISH
X-ORIGINAL-URL:https://okcic.com
X-WR-CALDESC:Events for Oklahoma City Indian Clinic
REFRESH-INTERVAL;VALUE=DURATION:PT1H
X-Robots-Tag:noindex
X-PUBLISHED-TTL:PT1H
BEGIN:VTIMEZONE
TZID:America/Chicago
BEGIN:DAYLIGHT
TZOFFSETFROM:-0600
TZOFFSETTO:-0500
TZNAME:CDT
DTSTART:20250309T080000
END:DAYLIGHT
BEGIN:STANDARD
TZOFFSETFROM:-0500
TZOFFSETTO:-0600
TZNAME:CST
DTSTART:20251102T070000
END:STANDARD
END:VTIMEZONE
BEGIN:VEVENT
DTSTART;TZID=America/Chicago:20251202T163000
DTEND;TZID=America/Chicago:20251202T173000
DTSTAMP:20260420T131309
CREATED:20250722T172215Z
LAST-MODIFIED:20250916T195038Z
UID:10006090-1764693000-1764696600@okcic.com
SUMMARY:EAGLE Club
DESCRIPTION:Date: Tuesdays\, October 28 – December 2\, 2025 \nTime: 4:30 – 5:30 p.m. \nWhere: Oklahoma City Indian Clinic; 5208 W. Reno Ave.\, 2nd Floor Kids Fun & Fit Room\, Oklahoma City\, OK 73127 \nAbout: Everyone achieves (by) growing\, learning and exercising (EAGLE) Club  is for current OKCIC patients ages 10 – 17. Current nutrition referral required. \nApplications due by October 21\, 2025. \nOnline application \nIf the link above is not working\, please copy and paste this URL:\nhttps://forms.gle/Ea6GpyfoAquuWy7J7
URL:https://okcic.com/event/eagle-club-3/2025-12-02/
LOCATION:Oklahoma City Indian Clinic: Everett R. Rhoades Medical Building\, 5208 W. Reno Ave.\, Oklahoma City\, OK\, 73127\, United States
CATEGORIES:HPDP,Youth programs
GEO:35.463747;-97.610608
X-APPLE-STRUCTURED-LOCATION;VALUE=URI;X-ADDRESS=Oklahoma City Indian Clinic: Everett R. Rhoades Medical Building 5208 W. Reno Ave. Oklahoma City OK 73127 United States;X-APPLE-RADIUS=500;X-TITLE=5208 W. Reno Ave.:geo:-97.610608,35.463747
END:VEVENT
BEGIN:VEVENT
DTSTART;TZID=America/Chicago:20251202T163000
DTEND;TZID=America/Chicago:20251202T173000
DTSTAMP:20260420T131309
CREATED:20250722T200803Z
LAST-MODIFIED:20250916T195058Z
UID:10006180-1764693000-1764696600@okcic.com
SUMMARY:After-School Basketball
DESCRIPTION:Date: Tuesdays\, October 21 – December 9\, 2025 \nTime: 4:30 – 5:30 p.m. \nWhere: Portland Ave Baptist Church\, 1301 N Portland Ave\, Oklahoma City\, OK 73107 \nAbout: After-school basketball is for current OKCIC patients ages 10-17. Current nutrition referral required. \nApplication due by October 14\, 2025 \nOnline application \nIf the link above is not working\, please copy and paste this URL:\nhttps://forms.gle/GfdJHfromcyC162S7
URL:https://okcic.com/event/after-school-basketball-2/2025-12-02/
LOCATION:Portland Ave Baptist Church
CATEGORIES:HPDP,Youth programs
END:VEVENT
BEGIN:VEVENT
DTSTART;TZID=America/Chicago:20251202T180000
DTEND;TZID=America/Chicago:20251202T190000
DTSTAMP:20260420T131309
CREATED:20250723T174941Z
LAST-MODIFIED:20250723T174941Z
UID:10006308-1764698400-1764702000@okcic.com
SUMMARY:Exercise Nutrition Class Virtual
DESCRIPTION:Date: Tuesdays\, December 2 – December 16\, 2025 \nTime: 6:00 – 7:00 p.m. \nWhere: Virtual \nAbout: OKCIC patients 12+ learn how to properly fuel before\, during\, and after a workout. This virtual class discusses the basics of macronutrients\, energy sources\, and supplements. \nApplication due by November 25\, 2025 \nOnline application \nIf the link above is not working\, please copy and paste this URL:\nhttps://forms.gle/ua5t6ECf3s5L8TC47
URL:https://okcic.com/event/exercise-nutrition-class-virtual-3/2025-12-02/
LOCATION:Virtual Visit
CATEGORIES:Adult programs,HPDP,Youth programs
END:VEVENT
END:VCALENDAR