BEGIN:VCALENDAR
VERSION:2.0
PRODID:-//Oklahoma City Indian Clinic - ECPv6.13.1//NONSGML v1.0//EN
CALSCALE:GREGORIAN
METHOD:PUBLISH
X-WR-CALNAME:Oklahoma City Indian Clinic
X-ORIGINAL-URL:https://okcic.com
X-WR-CALDESC:Events for Oklahoma City Indian Clinic
REFRESH-INTERVAL;VALUE=DURATION:PT1H
X-Robots-Tag:noindex
X-PUBLISHED-TTL:PT1H
BEGIN:VTIMEZONE
TZID:America/Chicago
BEGIN:DAYLIGHT
TZOFFSETFROM:-0600
TZOFFSETTO:-0500
TZNAME:CDT
DTSTART:20250309T080000
END:DAYLIGHT
BEGIN:STANDARD
TZOFFSETFROM:-0500
TZOFFSETTO:-0600
TZNAME:CST
DTSTART:20251102T070000
END:STANDARD
END:VTIMEZONE
BEGIN:VEVENT
DTSTART;TZID=America/Chicago:20251211T130000
DTEND;TZID=America/Chicago:20251211T150000
DTSTAMP:20260422T191925
CREATED:20250723T180206Z
LAST-MODIFIED:20250723T180206Z
UID:10006313-1765458000-1765465200@okcic.com
SUMMARY:Family Roots: Native Beaded Christmas Ornament Class
DESCRIPTION:When: Thursday\, December 11\, 2025 \nTime: 1:00 – 3:00 p.m. \nWhere: Oklahoma City Indian Clinic\, 5208 W. Reno Ave.\, Oklahoma City\, OK 73127 \nAbout: Family Roots: Native Beaded Christmas Ornament Class is a class for current OKCIC patients ages 18+. Family Roots is a monthly\, multigenerational program featuring cultural activities for a variety ages\, like crafts\, traditional games\, and cooking. This program aims to strengthen cultural and social bonds. \nApplication due by December 4\, 2025 \nOnline application \nIf the link above is not working\, please copy and paste this URL:\nhttps://forms.gle/YXLbCbstCukXNUYc8
URL:https://okcic.com/event/family-roots-native-beaded-christmas-ornaments/
LOCATION:Oklahoma City Indian Clinic: Everett R. Rhoades Medical Building\, 5208 W. Reno Ave.\, Oklahoma City\, OK\, 73127\, United States
CATEGORIES:Adult programs,HPDP
GEO:35.463747;-97.610608
X-APPLE-STRUCTURED-LOCATION;VALUE=URI;X-ADDRESS=Oklahoma City Indian Clinic: Everett R. Rhoades Medical Building 5208 W. Reno Ave. Oklahoma City OK 73127 United States;X-APPLE-RADIUS=500;X-TITLE=5208 W. Reno Ave.:geo:-97.610608,35.463747
END:VEVENT
BEGIN:VEVENT
DTSTART;TZID=America/Chicago:20251211T163000
DTEND;TZID=America/Chicago:20251211T170000
DTSTAMP:20260422T191925
CREATED:20250722T173711Z
LAST-MODIFIED:20250722T173711Z
UID:10006096-1765470600-1765472400@okcic.com
SUMMARY:After-School E-Gym
DESCRIPTION:Date: Tuesdays and Thursdays\, December 9 – 18\, 2025 \nTime: 4:30 – 5:00 p.m. \nWhere: Oklahoma City Indian Clinic; 5208 W. Reno Ave.\, 2nd Floor Kids Fun & Fit Room\, Oklahoma City\, OK 73127 \nAbout: After-School EnGaging Young Minds is for current OKCIC patients ages 4-8. In this class\, children will create different cultural crafts in each session. Some of the crafts this semester include easy dream catchers\, miniature teepees\, drum kits\, and a celestial kit. Current nutrition referral required. \nApplications due by December 3\, 2025. \nOnline application \nIf the link above is not working\, please copy and paste this URL:\nhttps://forms.gle/HA2mitiYDMMx3Djj8
URL:https://okcic.com/event/after-school-e-gym-4/2025-12-11/
LOCATION:Oklahoma City Indian Clinic: Everett R. Rhoades Medical Building\, 5208 W. Reno Ave.\, Oklahoma City\, OK\, 73127\, United States
CATEGORIES:HPDP,Youth programs
GEO:35.463747;-97.610608
X-APPLE-STRUCTURED-LOCATION;VALUE=URI;X-ADDRESS=Oklahoma City Indian Clinic: Everett R. Rhoades Medical Building 5208 W. Reno Ave. Oklahoma City OK 73127 United States;X-APPLE-RADIUS=500;X-TITLE=5208 W. Reno Ave.:geo:-97.610608,35.463747
END:VEVENT
END:VCALENDAR