BEGIN:VCALENDAR
VERSION:2.0
PRODID:-//Oklahoma City Indian Clinic - ECPv6.13.1//NONSGML v1.0//EN
CALSCALE:GREGORIAN
METHOD:PUBLISH
X-ORIGINAL-URL:https://okcic.com
X-WR-CALDESC:Events for Oklahoma City Indian Clinic
REFRESH-INTERVAL;VALUE=DURATION:PT1H
X-Robots-Tag:noindex
X-PUBLISHED-TTL:PT1H
BEGIN:VTIMEZONE
TZID:America/Chicago
BEGIN:DAYLIGHT
TZOFFSETFROM:-0600
TZOFFSETTO:-0500
TZNAME:CDT
DTSTART:20260308T080000
END:DAYLIGHT
BEGIN:STANDARD
TZOFFSETFROM:-0500
TZOFFSETTO:-0600
TZNAME:CST
DTSTART:20261101T070000
END:STANDARD
END:VTIMEZONE
BEGIN:VEVENT
DTSTART;TZID=America/Chicago:20260306T163000
DTEND;TZID=America/Chicago:20260306T170000
DTSTAMP:20260421T145656
CREATED:20251218T154839Z
LAST-MODIFIED:20251223T151657Z
UID:10006940-1772814600-1772816400@okcic.com
SUMMARY:Virtual Step Challenge
DESCRIPTION:Date: Fridays\, February 2 – March 27\, 2026 \nTime: 4:30 – 5:00 p.m. \nWhere: You will receive the virtual Google Meet link in the acceptance letter after registration. \nAbout: The OKCIC Step Challenge is an 8-week virtual program designed for current OKCIC patients and employees aged 12 and older. Its goal is to encourage physical activity while educating participants on the importance of hydration and proper intake of macro- and micronutrients. Participants complete the step challenge at their own pace daily between Monday\, February 2 and Friday\, March 27\, with the only scheduled commitment being virtual meetings. Current nutrition referral required. \nApplication due by January 23\, 2026. \nOnline application \nIf the link above is not working\, please copy and paste this URL: \nhttps://forms.gle/77eyNNPjppEjydYx8
URL:https://okcic.com/event/virtual-step-challenge/2026-03-06/
LOCATION:Virtual Visit
CATEGORIES:Adult programs,HPDP
END:VEVENT
END:VCALENDAR