BEGIN:VCALENDAR
VERSION:2.0
PRODID:-//Oklahoma City Indian Clinic - ECPv6.13.1//NONSGML v1.0//EN
CALSCALE:GREGORIAN
METHOD:PUBLISH
X-ORIGINAL-URL:https://okcic.com
X-WR-CALDESC:Events for Oklahoma City Indian Clinic
REFRESH-INTERVAL;VALUE=DURATION:PT1H
X-Robots-Tag:noindex
X-PUBLISHED-TTL:PT1H
BEGIN:VTIMEZONE
TZID:America/Chicago
BEGIN:DAYLIGHT
TZOFFSETFROM:-0600
TZOFFSETTO:-0500
TZNAME:CDT
DTSTART:20260308T080000
END:DAYLIGHT
BEGIN:STANDARD
TZOFFSETFROM:-0500
TZOFFSETTO:-0600
TZNAME:CST
DTSTART:20261101T070000
END:STANDARD
END:VTIMEZONE
BEGIN:VEVENT
DTSTART;TZID=America/Chicago:20260805T100000
DTEND;TZID=America/Chicago:20260805T140000
DTSTAMP:20260422T091627
CREATED:20260417T151927Z
LAST-MODIFIED:20260417T151927Z
UID:10007586-1785924000-1785938400@okcic.com
SUMMARY:Kids in the Kitchen Jr. - Fairy Tales Theme
DESCRIPTION:Date: Wednesday\, August 5\, 2026 \nTime: 10:00 a.m. – 2:00 p.m. \nWhere: You will receive the location in the acceptance letter after registration.  \nAbout: Children ages 4–6 learn cooking skills while developing healthy eating habits. This session’s theme is Fairy Tales. Current wellness check and nutrition referral required. \nApplication due by July 29\, 2026 \nOnline application \nIf the link above is not working\, please copy and paste this URL:\nhttps://forms.gle/W2breyxTSZxy9d4H6
URL:https://okcic.com/event/kids-in-the-kitchen-jr-fairy-tales/
LOCATION:Oklahoma City Indian Clinic: Everett R. Rhoades Medical Building\, 5208 W. Reno Ave.\, Oklahoma City\, OK\, 73127\, United States
CATEGORIES:HPDP,Youth programs
GEO:35.463747;-97.610608
X-APPLE-STRUCTURED-LOCATION;VALUE=URI;X-ADDRESS=Oklahoma City Indian Clinic: Everett R. Rhoades Medical Building 5208 W. Reno Ave. Oklahoma City OK 73127 United States;X-APPLE-RADIUS=500;X-TITLE=5208 W. Reno Ave.:geo:-97.610608,35.463747
END:VEVENT
BEGIN:VEVENT
DTSTART;TZID=America/Chicago:20260824T130000
DTEND;TZID=America/Chicago:20260824T133000
DTSTAMP:20260422T091627
CREATED:20260417T152232Z
LAST-MODIFIED:20260417T152232Z
UID:10007592-1787576400-1787578200@okcic.com
SUMMARY:Senior Nutrition
DESCRIPTION:When: Monday – Friday\, August 24 – 28\, 2026 \nTime: 1:00 – 2:00 p.m. \nWhere: You will receive the location in the acceptance letter after registration.  \nAbout: Patients 65 years of age and older receive nutrition education specialized for the golden years. Current nutrition referral required. \nApplication due by August 17\, 2026 \nOnline application \nIf the link above is not working\, please copy and paste this URL:\nhttps://forms.gle/SgLn1F7SY3LUUjxo8
URL:https://okcic.com/event/senior-nutrition-8/2026-08-24/
LOCATION:Oklahoma City Indian Clinic: Everett R. Rhoades Medical Building\, 5208 W. Reno Ave.\, Oklahoma City\, OK\, 73127\, United States
CATEGORIES:Adult programs,HPDP
GEO:35.463747;-97.610608
X-APPLE-STRUCTURED-LOCATION;VALUE=URI;X-ADDRESS=Oklahoma City Indian Clinic: Everett R. Rhoades Medical Building 5208 W. Reno Ave. Oklahoma City OK 73127 United States;X-APPLE-RADIUS=500;X-TITLE=5208 W. Reno Ave.:geo:-97.610608,35.463747
END:VEVENT
BEGIN:VEVENT
DTSTART;TZID=America/Chicago:20260825T130000
DTEND;TZID=America/Chicago:20260825T133000
DTSTAMP:20260422T091627
CREATED:20260417T152232Z
LAST-MODIFIED:20260417T152232Z
UID:10007593-1787662800-1787664600@okcic.com
SUMMARY:Senior Nutrition
DESCRIPTION:When: Monday – Friday\, August 24 – 28\, 2026 \nTime: 1:00 – 2:00 p.m. \nWhere: You will receive the location in the acceptance letter after registration.  \nAbout: Patients 65 years of age and older receive nutrition education specialized for the golden years. Current nutrition referral required. \nApplication due by August 17\, 2026 \nOnline application \nIf the link above is not working\, please copy and paste this URL:\nhttps://forms.gle/SgLn1F7SY3LUUjxo8
URL:https://okcic.com/event/senior-nutrition-8/2026-08-25/
LOCATION:Oklahoma City Indian Clinic: Everett R. Rhoades Medical Building\, 5208 W. Reno Ave.\, Oklahoma City\, OK\, 73127\, United States
CATEGORIES:Adult programs,HPDP
GEO:35.463747;-97.610608
X-APPLE-STRUCTURED-LOCATION;VALUE=URI;X-ADDRESS=Oklahoma City Indian Clinic: Everett R. Rhoades Medical Building 5208 W. Reno Ave. Oklahoma City OK 73127 United States;X-APPLE-RADIUS=500;X-TITLE=5208 W. Reno Ave.:geo:-97.610608,35.463747
END:VEVENT
BEGIN:VEVENT
DTSTART;TZID=America/Chicago:20260826T130000
DTEND;TZID=America/Chicago:20260826T133000
DTSTAMP:20260422T091627
CREATED:20260417T152232Z
LAST-MODIFIED:20260417T152232Z
UID:10007594-1787749200-1787751000@okcic.com
SUMMARY:Senior Nutrition
DESCRIPTION:When: Monday – Friday\, August 24 – 28\, 2026 \nTime: 1:00 – 2:00 p.m. \nWhere: You will receive the location in the acceptance letter after registration.  \nAbout: Patients 65 years of age and older receive nutrition education specialized for the golden years. Current nutrition referral required. \nApplication due by August 17\, 2026 \nOnline application \nIf the link above is not working\, please copy and paste this URL:\nhttps://forms.gle/SgLn1F7SY3LUUjxo8
URL:https://okcic.com/event/senior-nutrition-8/2026-08-26/
LOCATION:Oklahoma City Indian Clinic: Everett R. Rhoades Medical Building\, 5208 W. Reno Ave.\, Oklahoma City\, OK\, 73127\, United States
CATEGORIES:Adult programs,HPDP
GEO:35.463747;-97.610608
X-APPLE-STRUCTURED-LOCATION;VALUE=URI;X-ADDRESS=Oklahoma City Indian Clinic: Everett R. Rhoades Medical Building 5208 W. Reno Ave. Oklahoma City OK 73127 United States;X-APPLE-RADIUS=500;X-TITLE=5208 W. Reno Ave.:geo:-97.610608,35.463747
END:VEVENT
BEGIN:VEVENT
DTSTART;TZID=America/Chicago:20260827T130000
DTEND;TZID=America/Chicago:20260827T133000
DTSTAMP:20260422T091627
CREATED:20260417T152232Z
LAST-MODIFIED:20260417T152232Z
UID:10007595-1787835600-1787837400@okcic.com
SUMMARY:Senior Nutrition
DESCRIPTION:When: Monday – Friday\, August 24 – 28\, 2026 \nTime: 1:00 – 2:00 p.m. \nWhere: You will receive the location in the acceptance letter after registration.  \nAbout: Patients 65 years of age and older receive nutrition education specialized for the golden years. Current nutrition referral required. \nApplication due by August 17\, 2026 \nOnline application \nIf the link above is not working\, please copy and paste this URL:\nhttps://forms.gle/SgLn1F7SY3LUUjxo8
URL:https://okcic.com/event/senior-nutrition-8/2026-08-27/
LOCATION:Oklahoma City Indian Clinic: Everett R. Rhoades Medical Building\, 5208 W. Reno Ave.\, Oklahoma City\, OK\, 73127\, United States
CATEGORIES:Adult programs,HPDP
GEO:35.463747;-97.610608
X-APPLE-STRUCTURED-LOCATION;VALUE=URI;X-ADDRESS=Oklahoma City Indian Clinic: Everett R. Rhoades Medical Building 5208 W. Reno Ave. Oklahoma City OK 73127 United States;X-APPLE-RADIUS=500;X-TITLE=5208 W. Reno Ave.:geo:-97.610608,35.463747
END:VEVENT
BEGIN:VEVENT
DTSTART;TZID=America/Chicago:20260828T130000
DTEND;TZID=America/Chicago:20260828T133000
DTSTAMP:20260422T091627
CREATED:20260417T152232Z
LAST-MODIFIED:20260417T152232Z
UID:10007596-1787922000-1787923800@okcic.com
SUMMARY:Senior Nutrition
DESCRIPTION:When: Monday – Friday\, August 24 – 28\, 2026 \nTime: 1:00 – 2:00 p.m. \nWhere: You will receive the location in the acceptance letter after registration.  \nAbout: Patients 65 years of age and older receive nutrition education specialized for the golden years. Current nutrition referral required. \nApplication due by August 17\, 2026 \nOnline application \nIf the link above is not working\, please copy and paste this URL:\nhttps://forms.gle/SgLn1F7SY3LUUjxo8
URL:https://okcic.com/event/senior-nutrition-8/2026-08-28/
LOCATION:Oklahoma City Indian Clinic: Everett R. Rhoades Medical Building\, 5208 W. Reno Ave.\, Oklahoma City\, OK\, 73127\, United States
CATEGORIES:Adult programs,HPDP
GEO:35.463747;-97.610608
X-APPLE-STRUCTURED-LOCATION;VALUE=URI;X-ADDRESS=Oklahoma City Indian Clinic: Everett R. Rhoades Medical Building 5208 W. Reno Ave. Oklahoma City OK 73127 United States;X-APPLE-RADIUS=500;X-TITLE=5208 W. Reno Ave.:geo:-97.610608,35.463747
END:VEVENT
END:VCALENDAR