BEGIN:VCALENDAR
VERSION:2.0
PRODID:-//Oklahoma City Indian Clinic - ECPv6.13.1//NONSGML v1.0//EN
CALSCALE:GREGORIAN
METHOD:PUBLISH
X-ORIGINAL-URL:https://okcic.com
X-WR-CALDESC:Events for Oklahoma City Indian Clinic
REFRESH-INTERVAL;VALUE=DURATION:PT1H
X-Robots-Tag:noindex
X-PUBLISHED-TTL:PT1H
BEGIN:VTIMEZONE
TZID:America/Chicago
BEGIN:DAYLIGHT
TZOFFSETFROM:-0600
TZOFFSETTO:-0500
TZNAME:CDT
DTSTART:20240310T080000
END:DAYLIGHT
BEGIN:STANDARD
TZOFFSETFROM:-0500
TZOFFSETTO:-0600
TZNAME:CST
DTSTART:20241103T070000
END:STANDARD
END:VTIMEZONE
BEGIN:VEVENT
DTSTART;TZID=America/Chicago:20241015T100000
DTEND;TZID=America/Chicago:20241015T140000
DTSTAMP:20260422T061629
CREATED:20240801T153553Z
LAST-MODIFIED:20240801T153705Z
UID:10004203-1728986400-1729000800@okcic.com
SUMMARY:Kid's in the Kitchen Jr.
DESCRIPTION:Date: Tuesday\, October 15\, 2024 from 10:00 a.m. to 2:00 p.m. \nWhere: OKCIC 3rd Floor Demo Kitchen; 5208 W. Reno Ave.\, Oklahoma City\, OK 73127 \nAbout: Children ages 4–6 learn cooking skills while developing healthy eating habits. Current wellness check and nutrition referral required. \nApplication due by October 8\, 2024. \nOnline application \nIf the link above is not working\, please copy and paste this URL:\nhttps://forms.gle/Vmwvmq7ayx9bY9rG9
URL:https://okcic.com/event/kik-jr/
LOCATION:Demonstration Kitchen\, 5208 W. Reno\, Oklahoma City\, OK\, 73127\, United States
CATEGORIES:HPDP,Youth programs
GEO:35.463747;-97.610608
X-APPLE-STRUCTURED-LOCATION;VALUE=URI;X-ADDRESS=Demonstration Kitchen 5208 W. Reno Oklahoma City OK 73127 United States;X-APPLE-RADIUS=500;X-TITLE=5208 W. Reno:geo:-97.610608,35.463747
END:VEVENT
BEGIN:VEVENT
DTSTART;TZID=America/Chicago:20241016T183000
DTEND;TZID=America/Chicago:20241016T193000
DTSTAMP:20260422T061629
CREATED:20240809T200334Z
LAST-MODIFIED:20240809T200334Z
UID:10004279-1729103400-1729107000@okcic.com
SUMMARY:Outside Family Yoga
DESCRIPTION:Date: Wednesday\, October 16\, 2024 \nTime: 6:30 – 7:30 p.m. \nWhere: Harn Homestead; 1721 N Lincoln Blvd.\, Oklahoma City\, OK 73105 \nAbout: This class is for families and will teach yoga for families. Current wellness check and nutrition referral is required. Open to all ages. \nApplications due by October 9\, 2024. \nOnline application \nIf the link above is not working\, please copy and paste this URL:\nhttps://forms.gle/7DPwY5xcAnBqiWxQ6
URL:https://okcic.com/event/outside-family-yoga/
LOCATION:OK
CATEGORIES:Adult programs,HPDP,Youth programs
END:VEVENT
END:VCALENDAR