BEGIN:VCALENDAR
VERSION:2.0
PRODID:-//Oklahoma City Indian Clinic - ECPv6.13.1//NONSGML v1.0//EN
CALSCALE:GREGORIAN
METHOD:PUBLISH
X-WR-CALNAME:Oklahoma City Indian Clinic
X-ORIGINAL-URL:https://okcic.com
X-WR-CALDESC:Events for Oklahoma City Indian Clinic
REFRESH-INTERVAL;VALUE=DURATION:PT1H
X-Robots-Tag:noindex
X-PUBLISHED-TTL:PT1H
BEGIN:VTIMEZONE
TZID:America/Chicago
BEGIN:DAYLIGHT
TZOFFSETFROM:-0600
TZOFFSETTO:-0500
TZNAME:CDT
DTSTART:20250309T080000
END:DAYLIGHT
BEGIN:STANDARD
TZOFFSETFROM:-0500
TZOFFSETTO:-0600
TZNAME:CST
DTSTART:20251102T070000
END:STANDARD
END:VTIMEZONE
BEGIN:VEVENT
DTSTART;TZID=America/Chicago:20250204T163000
DTEND;TZID=America/Chicago:20250204T173000
DTSTAMP:20260421T130403
CREATED:20241219T195424Z
LAST-MODIFIED:20241219T195633Z
UID:10004707-1738686600-1738690200@okcic.com
SUMMARY:EAGLE Club
DESCRIPTION:Date: Tuesdays\, February 4 – May 6\, 2025 \nTime: 4:30 – 5:30 p.m. \nWhere: Oklahoma City Indian Clinic\, 5208 W. Reno Ave.\, 2nd Floor Kids Fun & Fit Room\, Oklahoma City\, OK 73127 \nAbout: Everyone achieves (by) growing\, learning and exercising (EAGLE) Club  is for current OKCIC patients ages 10 – 17. Current nutrition referral required. \nApplications due by January 28\, 2025 \nOnline application \nIf the link above is not working\, please copy and paste this URL:\nhttps://forms.gle/coxw5MSJJ6Htqyo4A
URL:https://okcic.com/event/eagle-club-2/2025-02-04/
LOCATION:Oklahoma City Indian Clinic: Everett R. Rhoades Medical Building\, 5208 W. Reno Ave.\, Oklahoma City\, OK\, 73127\, United States
CATEGORIES:HPDP,Youth programs
GEO:35.463747;-97.610608
X-APPLE-STRUCTURED-LOCATION;VALUE=URI;X-ADDRESS=Oklahoma City Indian Clinic: Everett R. Rhoades Medical Building 5208 W. Reno Ave. Oklahoma City OK 73127 United States;X-APPLE-RADIUS=500;X-TITLE=5208 W. Reno Ave.:geo:-97.610608,35.463747
END:VEVENT
BEGIN:VEVENT
DTSTART;TZID=America/Chicago:20250206T163000
DTEND;TZID=America/Chicago:20250206T173000
DTSTAMP:20260421T130403
CREATED:20251216T164813Z
LAST-MODIFIED:20251216T164841Z
UID:10006716-1738859400-1738863000@okcic.com
SUMMARY:After-School MISS
DESCRIPTION:Date: Tuesdays\, January 20 – February 24\, 2026 \nTime: 4:30 – 5:30 p.m. \nWhere: You will receive the location in the acceptance letter after registration. \nAbout: Empowering and Investing in Indigenous Adolescent Girls for OKCIC patients ages 9-17. Current nutrition referral required. \nApplications due by January 13\, 2026. \nOnline application \nIf the link above is not working\, please copy and paste this URL:\nhttps://forms.gle/GpyAyTG1XwXGSQy26
URL:https://okcic.com/event/after-school-miss-4/2025-02-06/
LOCATION:Oklahoma City Indian Clinic: Everett R. Rhoades Medical Building\, 5208 W. Reno Ave.\, Oklahoma City\, OK\, 73127\, United States
CATEGORIES:HPDP,Youth programs
GEO:35.463747;-97.610608
X-APPLE-STRUCTURED-LOCATION;VALUE=URI;X-ADDRESS=Oklahoma City Indian Clinic: Everett R. Rhoades Medical Building 5208 W. Reno Ave. Oklahoma City OK 73127 United States;X-APPLE-RADIUS=500;X-TITLE=5208 W. Reno Ave.:geo:-97.610608,35.463747
END:VEVENT
BEGIN:VEVENT
DTSTART;TZID=America/Chicago:20250211T163000
DTEND;TZID=America/Chicago:20250211T173000
DTSTAMP:20260421T130403
CREATED:20241219T195424Z
LAST-MODIFIED:20241219T195633Z
UID:10004708-1739291400-1739295000@okcic.com
SUMMARY:EAGLE Club
DESCRIPTION:Date: Tuesdays\, February 4 – May 6\, 2025 \nTime: 4:30 – 5:30 p.m. \nWhere: Oklahoma City Indian Clinic\, 5208 W. Reno Ave.\, 2nd Floor Kids Fun & Fit Room\, Oklahoma City\, OK 73127 \nAbout: Everyone achieves (by) growing\, learning and exercising (EAGLE) Club  is for current OKCIC patients ages 10 – 17. Current nutrition referral required. \nApplications due by January 28\, 2025 \nOnline application \nIf the link above is not working\, please copy and paste this URL:\nhttps://forms.gle/coxw5MSJJ6Htqyo4A
URL:https://okcic.com/event/eagle-club-2/2025-02-11/
LOCATION:Oklahoma City Indian Clinic: Everett R. Rhoades Medical Building\, 5208 W. Reno Ave.\, Oklahoma City\, OK\, 73127\, United States
CATEGORIES:HPDP,Youth programs
GEO:35.463747;-97.610608
X-APPLE-STRUCTURED-LOCATION;VALUE=URI;X-ADDRESS=Oklahoma City Indian Clinic: Everett R. Rhoades Medical Building 5208 W. Reno Ave. Oklahoma City OK 73127 United States;X-APPLE-RADIUS=500;X-TITLE=5208 W. Reno Ave.:geo:-97.610608,35.463747
END:VEVENT
BEGIN:VEVENT
DTSTART;TZID=America/Chicago:20250213T163000
DTEND;TZID=America/Chicago:20250213T173000
DTSTAMP:20260421T130403
CREATED:20251216T164813Z
LAST-MODIFIED:20251216T164841Z
UID:10006717-1739464200-1739467800@okcic.com
SUMMARY:After-School MISS
DESCRIPTION:Date: Tuesdays\, January 20 – February 24\, 2026 \nTime: 4:30 – 5:30 p.m. \nWhere: You will receive the location in the acceptance letter after registration. \nAbout: Empowering and Investing in Indigenous Adolescent Girls for OKCIC patients ages 9-17. Current nutrition referral required. \nApplications due by January 13\, 2026. \nOnline application \nIf the link above is not working\, please copy and paste this URL:\nhttps://forms.gle/GpyAyTG1XwXGSQy26
URL:https://okcic.com/event/after-school-miss-4/2025-02-13/
LOCATION:Oklahoma City Indian Clinic: Everett R. Rhoades Medical Building\, 5208 W. Reno Ave.\, Oklahoma City\, OK\, 73127\, United States
CATEGORIES:HPDP,Youth programs
GEO:35.463747;-97.610608
X-APPLE-STRUCTURED-LOCATION;VALUE=URI;X-ADDRESS=Oklahoma City Indian Clinic: Everett R. Rhoades Medical Building 5208 W. Reno Ave. Oklahoma City OK 73127 United States;X-APPLE-RADIUS=500;X-TITLE=5208 W. Reno Ave.:geo:-97.610608,35.463747
END:VEVENT
BEGIN:VEVENT
DTSTART;TZID=America/Chicago:20250218T163000
DTEND;TZID=America/Chicago:20250218T173000
DTSTAMP:20260421T130403
CREATED:20241219T195424Z
LAST-MODIFIED:20241219T195633Z
UID:10004709-1739896200-1739899800@okcic.com
SUMMARY:EAGLE Club
DESCRIPTION:Date: Tuesdays\, February 4 – May 6\, 2025 \nTime: 4:30 – 5:30 p.m. \nWhere: Oklahoma City Indian Clinic\, 5208 W. Reno Ave.\, 2nd Floor Kids Fun & Fit Room\, Oklahoma City\, OK 73127 \nAbout: Everyone achieves (by) growing\, learning and exercising (EAGLE) Club  is for current OKCIC patients ages 10 – 17. Current nutrition referral required. \nApplications due by January 28\, 2025 \nOnline application \nIf the link above is not working\, please copy and paste this URL:\nhttps://forms.gle/coxw5MSJJ6Htqyo4A
URL:https://okcic.com/event/eagle-club-2/2025-02-18/
LOCATION:Oklahoma City Indian Clinic: Everett R. Rhoades Medical Building\, 5208 W. Reno Ave.\, Oklahoma City\, OK\, 73127\, United States
CATEGORIES:HPDP,Youth programs
GEO:35.463747;-97.610608
X-APPLE-STRUCTURED-LOCATION;VALUE=URI;X-ADDRESS=Oklahoma City Indian Clinic: Everett R. Rhoades Medical Building 5208 W. Reno Ave. Oklahoma City OK 73127 United States;X-APPLE-RADIUS=500;X-TITLE=5208 W. Reno Ave.:geo:-97.610608,35.463747
END:VEVENT
BEGIN:VEVENT
DTSTART;TZID=America/Chicago:20250218T180000
DTEND;TZID=America/Chicago:20250218T190000
DTSTAMP:20260421T130403
CREATED:20241220T190418Z
LAST-MODIFIED:20241220T190455Z
UID:10004848-1739901600-1739905200@okcic.com
SUMMARY:Virtual Family Yoga Night
DESCRIPTION:Date: Tuesday\, February 18\, 2025 \nTime: 6:00 – 7:00 p.m. \nWhere: Virtual Visit \nAbout: This class is for families and will teach yoga for families. Current wellness check and nutrition referral is required. Open to all ages. \nApplications due by February 11\, 2025. \nOnline application \nIf the link above is not working\, please copy and paste this URL:\nhttps://forms.gle/vURhphHkj3N6sh316
URL:https://okcic.com/event/virtual-family-yoga-night-2/
LOCATION:OK
CATEGORIES:Adult programs,Family programs,HPDP,Youth programs
END:VEVENT
BEGIN:VEVENT
DTSTART;TZID=America/Chicago:20250220T163000
DTEND;TZID=America/Chicago:20250220T173000
DTSTAMP:20260421T130403
CREATED:20251216T164813Z
LAST-MODIFIED:20251216T164841Z
UID:10006718-1740069000-1740072600@okcic.com
SUMMARY:After-School MISS
DESCRIPTION:Date: Tuesdays\, January 20 – February 24\, 2026 \nTime: 4:30 – 5:30 p.m. \nWhere: You will receive the location in the acceptance letter after registration. \nAbout: Empowering and Investing in Indigenous Adolescent Girls for OKCIC patients ages 9-17. Current nutrition referral required. \nApplications due by January 13\, 2026. \nOnline application \nIf the link above is not working\, please copy and paste this URL:\nhttps://forms.gle/GpyAyTG1XwXGSQy26
URL:https://okcic.com/event/after-school-miss-4/2025-02-20/
LOCATION:Oklahoma City Indian Clinic: Everett R. Rhoades Medical Building\, 5208 W. Reno Ave.\, Oklahoma City\, OK\, 73127\, United States
CATEGORIES:HPDP,Youth programs
GEO:35.463747;-97.610608
X-APPLE-STRUCTURED-LOCATION;VALUE=URI;X-ADDRESS=Oklahoma City Indian Clinic: Everett R. Rhoades Medical Building 5208 W. Reno Ave. Oklahoma City OK 73127 United States;X-APPLE-RADIUS=500;X-TITLE=5208 W. Reno Ave.:geo:-97.610608,35.463747
END:VEVENT
BEGIN:VEVENT
DTSTART;TZID=America/Chicago:20250225T163000
DTEND;TZID=America/Chicago:20250225T173000
DTSTAMP:20260421T130403
CREATED:20241219T195424Z
LAST-MODIFIED:20241219T195633Z
UID:10004710-1740501000-1740504600@okcic.com
SUMMARY:EAGLE Club
DESCRIPTION:Date: Tuesdays\, February 4 – May 6\, 2025 \nTime: 4:30 – 5:30 p.m. \nWhere: Oklahoma City Indian Clinic\, 5208 W. Reno Ave.\, 2nd Floor Kids Fun & Fit Room\, Oklahoma City\, OK 73127 \nAbout: Everyone achieves (by) growing\, learning and exercising (EAGLE) Club  is for current OKCIC patients ages 10 – 17. Current nutrition referral required. \nApplications due by January 28\, 2025 \nOnline application \nIf the link above is not working\, please copy and paste this URL:\nhttps://forms.gle/coxw5MSJJ6Htqyo4A
URL:https://okcic.com/event/eagle-club-2/2025-02-25/
LOCATION:Oklahoma City Indian Clinic: Everett R. Rhoades Medical Building\, 5208 W. Reno Ave.\, Oklahoma City\, OK\, 73127\, United States
CATEGORIES:HPDP,Youth programs
GEO:35.463747;-97.610608
X-APPLE-STRUCTURED-LOCATION;VALUE=URI;X-ADDRESS=Oklahoma City Indian Clinic: Everett R. Rhoades Medical Building 5208 W. Reno Ave. Oklahoma City OK 73127 United States;X-APPLE-RADIUS=500;X-TITLE=5208 W. Reno Ave.:geo:-97.610608,35.463747
END:VEVENT
BEGIN:VEVENT
DTSTART;TZID=America/Chicago:20250227T163000
DTEND;TZID=America/Chicago:20250227T173000
DTSTAMP:20260421T130403
CREATED:20251216T164813Z
LAST-MODIFIED:20251216T164841Z
UID:10006719-1740673800-1740677400@okcic.com
SUMMARY:After-School MISS
DESCRIPTION:Date: Tuesdays\, January 20 – February 24\, 2026 \nTime: 4:30 – 5:30 p.m. \nWhere: You will receive the location in the acceptance letter after registration. \nAbout: Empowering and Investing in Indigenous Adolescent Girls for OKCIC patients ages 9-17. Current nutrition referral required. \nApplications due by January 13\, 2026. \nOnline application \nIf the link above is not working\, please copy and paste this URL:\nhttps://forms.gle/GpyAyTG1XwXGSQy26
URL:https://okcic.com/event/after-school-miss-4/2025-02-27/
LOCATION:Oklahoma City Indian Clinic: Everett R. Rhoades Medical Building\, 5208 W. Reno Ave.\, Oklahoma City\, OK\, 73127\, United States
CATEGORIES:HPDP,Youth programs
GEO:35.463747;-97.610608
X-APPLE-STRUCTURED-LOCATION;VALUE=URI;X-ADDRESS=Oklahoma City Indian Clinic: Everett R. Rhoades Medical Building 5208 W. Reno Ave. Oklahoma City OK 73127 United States;X-APPLE-RADIUS=500;X-TITLE=5208 W. Reno Ave.:geo:-97.610608,35.463747
END:VEVENT
END:VCALENDAR