BEGIN:VCALENDAR
VERSION:2.0
PRODID:-//Oklahoma City Indian Clinic - ECPv6.13.1//NONSGML v1.0//EN
CALSCALE:GREGORIAN
METHOD:PUBLISH
X-WR-CALNAME:Oklahoma City Indian Clinic
X-ORIGINAL-URL:https://okcic.com
X-WR-CALDESC:Events for Oklahoma City Indian Clinic
REFRESH-INTERVAL;VALUE=DURATION:PT1H
X-Robots-Tag:noindex
X-PUBLISHED-TTL:PT1H
BEGIN:VTIMEZONE
TZID:America/Chicago
BEGIN:DAYLIGHT
TZOFFSETFROM:-0600
TZOFFSETTO:-0500
TZNAME:CDT
DTSTART:20260308T080000
END:DAYLIGHT
BEGIN:STANDARD
TZOFFSETFROM:-0500
TZOFFSETTO:-0600
TZNAME:CST
DTSTART:20261101T070000
END:STANDARD
END:VTIMEZONE
BEGIN:VEVENT
DTSTART;TZID=America/Chicago:20260728T090000
DTEND;TZID=America/Chicago:20260728T120000
DTSTAMP:20260421T225955
CREATED:20260417T151402Z
LAST-MODIFIED:20260417T151402Z
UID:10007578-1785229200-1785240000@okcic.com
SUMMARY:Swim Camp 1
DESCRIPTION:Date: Tuesday – Thursday\, July 28 – July 30\, 2026 \nTime: 9:00 a.m. – 12:00 p.m. \nWhere: You will receive the location in the acceptance letter after registration.  \nAbout: Swim Camp 1 is a day camp for current OKCIC patients ages 6-10. Current nutrition referral required. \nApplications due by July 21\, 2026 \nOnline application \nIf the link above is not working\, please copy and paste this URL:\nhttps://forms.gle/bNv6Bv7xeJrRrKd89
URL:https://okcic.com/event/swim-camp-1-3/2026-07-28/
LOCATION:OK
CATEGORIES:HPDP,Youth programs
END:VEVENT
BEGIN:VEVENT
DTSTART;TZID=America/Chicago:20260728T130000
DTEND;TZID=America/Chicago:20260728T160000
DTSTAMP:20260421T225955
CREATED:20260417T151547Z
LAST-MODIFIED:20260417T151547Z
UID:10007583-1785243600-1785254400@okcic.com
SUMMARY:Swim Camp 2
DESCRIPTION:Date: Tuesday – Thursday\, July 28 – July 30\, 2026 \nTime: 1:00 – 4:00 p.m. \nWhere: You will receive the location in the acceptance letter after registration.  \nAbout: Swim Camp 2 is a day camp for current OKCIC patients ages 11-17. Current nutrition referral required. \nApplications due by July 21\, 2026 \nOnline application \nIf the link above is not working\, please copy and paste this URL:\nhttps://forms.gle/bEjwhRN4GXiruxGV9
URL:https://okcic.com/event/swim-camp-2-2/2026-07-28/
LOCATION:Santa Fe Life Center\, 6300 N. Santa Fe Ave.\, Oklahoma City\, OK\, 73118\, United States
CATEGORIES:HPDP,Youth programs
GEO:35.5357797;-97.5109792
X-APPLE-STRUCTURED-LOCATION;VALUE=URI;X-ADDRESS=Santa Fe Life Center 6300 N. Santa Fe Ave. Oklahoma City OK 73118 United States;X-APPLE-RADIUS=500;X-TITLE=6300 N. Santa Fe Ave.:geo:-97.5109792,35.5357797
END:VEVENT
BEGIN:VEVENT
DTSTART;TZID=America/Chicago:20260729T090000
DTEND;TZID=America/Chicago:20260729T120000
DTSTAMP:20260421T225955
CREATED:20260417T151402Z
LAST-MODIFIED:20260417T151402Z
UID:10007579-1785315600-1785326400@okcic.com
SUMMARY:Swim Camp 1
DESCRIPTION:Date: Tuesday – Thursday\, July 28 – July 30\, 2026 \nTime: 9:00 a.m. – 12:00 p.m. \nWhere: You will receive the location in the acceptance letter after registration.  \nAbout: Swim Camp 1 is a day camp for current OKCIC patients ages 6-10. Current nutrition referral required. \nApplications due by July 21\, 2026 \nOnline application \nIf the link above is not working\, please copy and paste this URL:\nhttps://forms.gle/bNv6Bv7xeJrRrKd89
URL:https://okcic.com/event/swim-camp-1-3/2026-07-29/
LOCATION:OK
CATEGORIES:HPDP,Youth programs
END:VEVENT
BEGIN:VEVENT
DTSTART;TZID=America/Chicago:20260729T130000
DTEND;TZID=America/Chicago:20260729T160000
DTSTAMP:20260421T225956
CREATED:20260417T151547Z
LAST-MODIFIED:20260417T151547Z
UID:10007584-1785330000-1785340800@okcic.com
SUMMARY:Swim Camp 2
DESCRIPTION:Date: Tuesday – Thursday\, July 28 – July 30\, 2026 \nTime: 1:00 – 4:00 p.m. \nWhere: You will receive the location in the acceptance letter after registration.  \nAbout: Swim Camp 2 is a day camp for current OKCIC patients ages 11-17. Current nutrition referral required. \nApplications due by July 21\, 2026 \nOnline application \nIf the link above is not working\, please copy and paste this URL:\nhttps://forms.gle/bEjwhRN4GXiruxGV9
URL:https://okcic.com/event/swim-camp-2-2/2026-07-29/
LOCATION:Santa Fe Life Center\, 6300 N. Santa Fe Ave.\, Oklahoma City\, OK\, 73118\, United States
CATEGORIES:HPDP,Youth programs
GEO:35.5357797;-97.5109792
X-APPLE-STRUCTURED-LOCATION;VALUE=URI;X-ADDRESS=Santa Fe Life Center 6300 N. Santa Fe Ave. Oklahoma City OK 73118 United States;X-APPLE-RADIUS=500;X-TITLE=6300 N. Santa Fe Ave.:geo:-97.5109792,35.5357797
END:VEVENT
BEGIN:VEVENT
DTSTART;TZID=America/Chicago:20260730T090000
DTEND;TZID=America/Chicago:20260730T120000
DTSTAMP:20260421T225956
CREATED:20260417T151402Z
LAST-MODIFIED:20260417T151402Z
UID:10007580-1785402000-1785412800@okcic.com
SUMMARY:Swim Camp 1
DESCRIPTION:Date: Tuesday – Thursday\, July 28 – July 30\, 2026 \nTime: 9:00 a.m. – 12:00 p.m. \nWhere: You will receive the location in the acceptance letter after registration.  \nAbout: Swim Camp 1 is a day camp for current OKCIC patients ages 6-10. Current nutrition referral required. \nApplications due by July 21\, 2026 \nOnline application \nIf the link above is not working\, please copy and paste this URL:\nhttps://forms.gle/bNv6Bv7xeJrRrKd89
URL:https://okcic.com/event/swim-camp-1-3/2026-07-30/
LOCATION:OK
CATEGORIES:HPDP,Youth programs
END:VEVENT
BEGIN:VEVENT
DTSTART;TZID=America/Chicago:20260730T130000
DTEND;TZID=America/Chicago:20260730T160000
DTSTAMP:20260421T225956
CREATED:20260417T151547Z
LAST-MODIFIED:20260417T151547Z
UID:10007585-1785416400-1785427200@okcic.com
SUMMARY:Swim Camp 2
DESCRIPTION:Date: Tuesday – Thursday\, July 28 – July 30\, 2026 \nTime: 1:00 – 4:00 p.m. \nWhere: You will receive the location in the acceptance letter after registration.  \nAbout: Swim Camp 2 is a day camp for current OKCIC patients ages 11-17. Current nutrition referral required. \nApplications due by July 21\, 2026 \nOnline application \nIf the link above is not working\, please copy and paste this URL:\nhttps://forms.gle/bEjwhRN4GXiruxGV9
URL:https://okcic.com/event/swim-camp-2-2/2026-07-30/
LOCATION:Santa Fe Life Center\, 6300 N. Santa Fe Ave.\, Oklahoma City\, OK\, 73118\, United States
CATEGORIES:HPDP,Youth programs
GEO:35.5357797;-97.5109792
X-APPLE-STRUCTURED-LOCATION;VALUE=URI;X-ADDRESS=Santa Fe Life Center 6300 N. Santa Fe Ave. Oklahoma City OK 73118 United States;X-APPLE-RADIUS=500;X-TITLE=6300 N. Santa Fe Ave.:geo:-97.5109792,35.5357797
END:VEVENT
END:VCALENDAR